BEGIN:VCALENDAR
VERSION:2.0
PRODID:-//Eventin//Event Calendar//EN
CALSCALE:GREGORIAN
METHOD:PUBLISH
BEGIN:VEVENT
UID:0c1147993171be51938ee1d723e7debe@www.vbgardens.org
SUMMARY:Mother’s Day
DESCRIPTION:Celebrate those who help us bloom 🌸\n\nThis Mother’s Day\,
  treat mom to a beautiful moment surrounded by nature\, music\, and serenit
 y.\n\nEnjoy a special day together among flowers\, with live mariachi and t
 he unique charm of the garden.\n\n📅 Sunday\, May 10🎶 Live mariachi\n\
 nA space to appreciate\, connect\, and create unforgettable memories 💛
LOCATION:Jardín Botánico de Vallarta
DTSTAMP:20260425T174338Z
DTSTART:20260510T150000Z
DTEND:20260510T230000Z
END:VEVENT
END:VCALENDAR