BEGIN:VCALENDAR
VERSION:2.0
PRODID:-//Eventin//Event Calendar//EN
CALSCALE:GREGORIAN
METHOD:PUBLISH
BEGIN:VEVENT
UID:d1ca7c761b229a750f2c3f8e0b07fba2@www.vbgardens.org
SUMMARY:World Migratory Bird Day 2026
DESCRIPTION: We invite you to celebrate World Migratory Bird Day at Vallar
 ta Botanical Garden. Join us on May 9th for this global celebration aimed a
 t recognizing\, celebrating\, and raising awareness about migratory birds.
  \nThe Vallarta Botanical Garden will host this event as part of a worldwi
 de network of activities that seek to engage communities in celebrating mig
 ratory birds. \nThe Banderas Bay region is a key stopover along the migrat
 ory route for many bird species\, making it important to learn about them a
 nd protect them as they pass through this area. \nJoin us for a guided wal
 k to observe the birds that inhabit the garden\, as well as those just pass
 ing through for the season. \nDon’t forget to bring your binoculars! \n
 There will be talks\, environmental education activities\, and workshops. 
 \nDon’t miss it. 
LOCATION:Jardín Botanico de Vallarta
DTSTAMP:20260425T140439Z
DTSTART:20260509T140000Z
DTEND:20260509T230000Z
END:VEVENT
END:VCALENDAR
